BEGIN:VCALENDAR
VERSION:2.0
PRODID:-//ChamberMaster//Event Calendar 2.0//EN
METHOD:PUBLISH
X-PUBLISHED-TTL:P1H
REFRESH-INTERVAL:P1H
CALSCALE:GREGORIAN
BEGIN:VTIMEZONE
TZID:America/Denver
BEGIN:DAYLIGHT
RRULE:FREQ=YEARLY;BYMONTH=3;BYDAY=2SU
DTSTART:20070101T000000
TZOFFSETFROM:-0700
TZOFFSETTO:-0600
TZNAME:Mountain Daylight Time
END:DAYLIGHT
BEGIN:STANDARD
RRULE:FREQ=YEARLY;BYMONTH=11;BYDAY=1SU
DTSTART:20070101T000000
TZOFFSETFROM:-0600
TZOFFSETTO:-0700
TZNAME:Mountain Standard Time
END:STANDARD
END:VTIMEZONE
BEGIN:VEVENT
DTSTART;TZID=America/Denver:20260715T190000
DTEND;TZID=America/Denver:20260715T210000
X-MICROSOFT-CDO-ALLDAYEVENT:FALSE
SUMMARY:Utah Queer Film Festival Presents Come See Me In the Good Light
DESCRIPTION:Come See Me In The Good Light is a poignant and unexpectedly funny love story about poets Andrea Gibson (activist and Colorado Poet Laureate) and Megan Falley facing an incurable cancer diagnosis with joy\, wit and an unshakable partnership. Through laughter and unwavering love\, they transform pain into purpose\, and mortality into a moving celebration of resilience. Come See Me in the Good Light was shortlisted for Documentary Feature Film in the 98th annual Academy Awards and is presented to honor the first anniversary of Andrea's death.
X-ALT-DESC;FMTTYPE=text/html:<!DOCTYPE html><html><head><title></title></head><body aria-disabled="false"><p>Come See Me In The Good Light is a poignant and unexpectedly funny love story about poets Andrea Gibson (activist and Colorado Poet Laureate) and Megan Falley facing an incurable cancer diagnosis with joy\, wit and an unshakable partnership. Through laughter and unwavering love\, they transform pain into purpose\, and mortality into a moving celebration of resilience. Come See Me in the Good Light was shortlisted for Documentary Feature Film in the 98th annual Academy Awards and is presented to honor the first anniversary of Andrea&rsquo\;s death.</p></body></html>
LOCATION:375 W 400 N Salt Lake City UT 84103
UID:e.649.1446472
SEQUENCE:3
DTSTAMP:20260421T032222Z
URL:https://utahgaylesbianchamber.growthzoneapp.com/communitycalendar/Details/utah-queer-film-festival-presents-come-see-me-in-the-good-light-1713202?sourceTypeId=Hub
END:VEVENT
END:VCALENDAR
